OziExplorer Map Data File Version 2.2
o40-28
Y:\ozi_map\work_map\2\o40-28.jpg
1 ,Map Code,
Pulkovo 1942 (1),, 0.0000, 0.0000,WGS 84
Reserved 1
Reserved 2
Magnetic Variation,,,E
Map Projection,Transverse Mercator,PolyCal,Yes,AutoCalOnly,No,BSBUseWPX,No
Point01,xy, 131, 189,in, deg, 57, 20.0000,N, 57, 0.0000,E, grid, , , ,N
Point02,xy, 1904, 183,in, deg, 57, 20.0000,N, 57, 30.0000,E, grid, , , ,N
Point03,xy, 3678, 167,in, deg, 57, 20.0000,N, 58, 0.0000,E, grid, , , ,N
Point04,xy, 126, 2379,in, deg, 57, 0.0000,N, 57, 0.0000,E, grid, , , ,N
Point05,xy, 1917, 2373,in, deg, 57, 0.0000,N, 57, 30.0000,E, grid, , , ,N
Point06,xy, 3708, 2355,in, deg, 57, 0.0000,N, 58, 0.0000,E, grid, , , ,N
Point07,xy, 122, 4571,in, deg, 56, 40.0000,N, 57, 0.0000,E, grid, , , ,N
Point08,xy, 1930, 4566,in, deg, 56, 40.0000,N, 57, 30.0000,E, grid, , , ,N
Point09,xy, 3736, 4549,in, deg, 56, 40.0000,N, 58, 0.0000,E, grid, , , ,N
Point10,xy, , ,in, deg, , ,, , ,, grid, , , ,N
Point11,xy, , ,in, deg, , ,, , ,, grid, , , ,N
Point12,xy, , ,in, deg, , ,, , ,, grid, , , ,N
Point13,xy, , ,in, deg, , ,, , ,, grid, , , ,N
Point14,xy, , ,in, deg, , ,, , ,, grid, , , ,N
Point15,xy, , ,in, deg, , ,, , ,, grid, , , ,N
Point16,xy, , ,in, deg, , ,, , ,, grid, , , ,N
Point17,xy, , ,in, deg, , ,, , ,, grid, , , ,N
Point18,xy, , ,in, deg, , ,, , ,, grid, , , ,N
Point19,xy, , ,in, deg, , ,, , ,, grid, , , ,N
Point20,xy, , ,in, deg, , ,, , ,, grid, , , ,N
Point21,xy, , ,in, deg, , ,, , ,, grid, , , ,N
Point22,xy, , ,in, deg, , ,, , ,, grid, , , ,N
Point23,xy, , ,in, deg, , ,, , ,, grid, , , ,N
Point24,xy, , ,in, deg, , ,, , ,, grid, , , ,N
Point25,xy, , ,in, deg, , ,, , ,, grid, , , ,N
Point26,xy, , ,in, deg, , ,, , ,, grid, , , ,N
Point27,xy, , ,in, deg, , ,, , ,, grid, , , ,N
Point28,xy, , ,in, deg, , ,, , ,, grid, , , ,N
Point29,xy, , ,in, deg, , ,, , ,, grid, , , ,N
Point30,xy, , ,in, deg, , ,, , ,, grid, , , ,N
Projection Setup, 0.000000000, 57.000000000, 1.000000000, 10500000.00, 0.00,,,,,
Map Feature = MF ; Map Comment = MC These follow if they exist
Track File = TF These follow if they exist
Moving Map Parameters = MM? These follow if they exist
MM0,Yes
MMPNUM,4
MMPXY,1,129,186
MMPXY,2,3681,164
MMPXY,3,3737,4549
MMPXY,4,121,4572
MMPLL,1, 56.999567, 57.333809
MMPLL,2, 58.000849, 57.333701
MMPLL,3, 58.000133, 56.666631
MMPLL,4, 56.999714, 56.666580
MM1B,16.964128
Other Grid Setup
GRGRID,Yes,4 Km,No,16711680,255,4 Km,0,16777215,8,0,Yes,Yes,No,x
MOP,Map Open Position,0,0
IWH,Map Image Width/Height,3856,4699
