OziExplorer Map Data File Version 2.2
o40-36
Y:\ozi_map\work_map\2\o40-36.jpg
1 ,Map Code,
Pulkovo 1942 (1),, 0.0000, 0.0000,WGS 84
Reserved 1
Reserved 2
Magnetic Variation,,,E
Map Projection,Transverse Mercator,PolyCal,Yes,AutoCalOnly,No,BSBUseWPX,No
Point01,xy, 149, 186,in, deg, 56, 40.0000,N, 59, 0.0000,E, grid, , , ,N
Point02,xy, 1957, 184,in, deg, 56, 40.0000,N, 59, 30.0000,E, grid, , , ,N
Point03,xy, 3762, 168,in, deg, 56, 40.0000,N, 60, 0.0000,E, grid, , , ,N
Point04,xy, 141, 2380,in, deg, 56, 20.0000,N, 59, 0.0000,E, grid, , , ,N
Point05,xy, 1963, 2377,in, deg, 56, 20.0000,N, 59, 30.0000,E, grid, , , ,N
Point06,xy, 3785, 2361,in, deg, 56, 20.0000,N, 60, 0.0000,E, grid, , , ,N
Point07,xy, 131, 4574,in, deg, 56, 0.0000,N, 59, 0.0000,E, grid, , , ,N
Point08,xy, 1971, 4574,in, deg, 56, 0.0000,N, 59, 30.0000,E, grid, , , ,N
Point09,xy, 3808, 4556,in, deg, 56, 0.0000,N, 60, 0.0000,E, grid, , , ,N
Point10,xy, , ,in, deg, , ,, , ,, grid, , , ,N
Point11,xy, , ,in, deg, , ,, , ,, grid, , , ,N
Point12,xy, , ,in, deg, , ,, , ,, grid, , , ,N
Point13,xy, , ,in, deg, , ,, , ,, grid, , , ,N
Point14,xy, , ,in, deg, , ,, , ,, grid, , , ,N
Point15,xy, , ,in, deg, , ,, , ,, grid, , , ,N
Point16,xy, , ,in, deg, , ,, , ,, grid, , , ,N
Point17,xy, , ,in, deg, , ,, , ,, grid, , , ,N
Point18,xy, , ,in, deg, , ,, , ,, grid, , , ,N
Point19,xy, , ,in, deg, , ,, , ,, grid, , , ,N
Point20,xy, , ,in, deg, , ,, , ,, grid, , , ,N
Point21,xy, , ,in, deg, , ,, , ,, grid, , , ,N
Point22,xy, , ,in, deg, , ,, , ,, grid, , , ,N
Point23,xy, , ,in, deg, , ,, , ,, grid, , , ,N
Point24,xy, , ,in, deg, , ,, , ,, grid, , , ,N
Point25,xy, , ,in, deg, , ,, , ,, grid, , , ,N
Point26,xy, , ,in, deg, , ,, , ,, grid, , , ,N
Point27,xy, , ,in, deg, , ,, , ,, grid, , , ,N
Point28,xy, , ,in, deg, , ,, , ,, grid, , , ,N
Point29,xy, , ,in, deg, , ,, , ,, grid, , , ,N
Point30,xy, , ,in, deg, , ,, , ,, grid, , , ,N
Projection Setup, 0.000000000, 57.000000000, 1.000000000, 10500000.00, 0.00,,,,,
Map Feature = MF ; Map Comment = MC These follow if they exist
Track File = TF These follow if they exist
Moving Map Parameters = MM? These follow if they exist
MM0,Yes
MMPNUM,4
MMPXY,1,147,184
MMPXY,2,3765,166
MMPXY,3,3810,4558
MMPXY,4,128,4575
MMPLL,1, 58.999348, 56.666972
MMPLL,2, 60.000838, 56.666916
MMPLL,3, 60.000543, 55.999740
MMPLL,4, 58.999094, 55.999944
MM1B,16.962213
Other Grid Setup
GRGRID,Yes,4 Km,No,16711680,255,4 Km,0,16777215,8,0,Yes,Yes,No,x
MOP,Map Open Position,0,0
IWH,Map Image Width/Height,3921,4705
